{
 "currentVersion": 10.91,
 "serviceDescription": "",
 "mapName": "Layers",
 "description": "",
 "copyrightText": "",
 "supportsDynamicLayers": false,
 "layers": [
  {
   "id": 0,
   "name": "Zoning Class",
   "parentLayerId": -1,
   "defaultVisibility": true,
   "subLayerIds": null,
   "minScale": 19200,
   "maxScale": 0,
   "type": "Feature Layer",
   "geometryType": "esriGeometryPolygon"
  }
 ],
 "tables": [],
 "spatialReference": {
  "wkid": 3754,
  "latestWkid": 3754,
  "vcsWkid": 5703,
  "latestVcsWkid": 5703
 },
 "singleFusedMapCache": true,
 "tileInfo": {
  "rows": 1024,
  "cols": 1024,
  "dpi": 96,
  "format": "PNG32",
  "compressionQuality": 0,
  "origin": {
   "x": 1449956.0092,
   "y": 700935.9372
  },
  "spatialReference": {
   "wkid": 3754,
   "latestWkid": 3754,
   "vcsWkid": 5703,
   "latestVcsWkid": 5703
  },
  "lods": [
   {
    "level": 0,
    "resolution": 164.93055555555554,
    "scale": 190000
   },
   {
    "level": 1,
    "resolution": 62.84722222222222,
    "scale": 72400
   },
   {
    "level": 2,
    "resolution": 31.59722222222222,
    "scale": 36400
   },
   {
    "level": 3,
    "resolution": 16.666666666666664,
    "scale": 19200
   },
   {
    "level": 4,
    "resolution": 8.333333333333332,
    "scale": 9600
   },
   {
    "level": 5,
    "resolution": 4.166666666666666,
    "scale": 4800
   },
   {
    "level": 6,
    "resolution": 2.083333333333333,
    "scale": 2400
   },
   {
    "level": 7,
    "resolution": 1.0416666666666665,
    "scale": 1200
   },
   {
    "level": 8,
    "resolution": 0.625,
    "scale": 720
   },
   {
    "level": 9,
    "resolution": 0.41666666666666663,
    "scale": 480
   }
  ]
 },
 "initialExtent": {
  "xmin": 1540946.656365022,
  "ymin": 626298.3180589365,
  "xmax": 1543934.6542350203,
  "ymax": 627471.2750879597,
  "spatialReference": {
   "wkid": 3754,
   "latestWkid": 3754,
   "vcsWkid": 5703,
   "latestVcsWkid": 5703
  }
 },
 "fullExtent": {
  "xmin": 1450999.238400474,
  "ymin": 534394.790983811,
  "xmax": 1701120.766043558,
  "ymax": 700045.833368728,
  "spatialReference": {
   "wkid": 3754,
   "latestWkid": 3754,
   "vcsWkid": 5703,
   "latestVcsWkid": 5703
  }
 },
 "minScale": 19200,
 "maxScale": 480,
 "minLOD": 3,
 "maxLOD": 9,
 "units": "esriFeet",
 "supportedImageFormatTypes": "PNG32,PNG24,PNG,JPG,DIB,TIFF,EMF,PS,PDF,GIF,SVG,SVGZ,BMP",
 "documentInfo": {
  "Title": "",
  "Author": "",
  "Comments": "",
  "Subject": "Greene County Zoning Districts",
  "Category": "",
  "AntialiasingMode": "Best",
  "TextAntialiasingMode": "Force",
  "Keywords": "Greene County Zoning Districts"
 },
 "capabilities": "Map,Query,Data",
 "supportedQueryFormats": "JSON, geoJSON",
 "hasVersionedData": true,
 "exportTilesAllowed": false,
 "referenceScale": 0,
 "supportsDatumTransformation": true,
 "maxRecordCount": 1000,
 "maxImageHeight": 4096,
 "maxImageWidth": 4096,
 "supportedExtensions": ""
}
