{
 "currentVersion": 10.91,
 "serviceDescription": "The National Flood Hazard Layer (NFHL) data incorporates all Flood Insurance Rate Map (FIRM) databases published by the Federal Emergency Management Agency (FEMA), and any Letters of Map Revision (LOMRs) that have been issued against those databases since their publication date. It is updated on a monthly basis. The FIRM Database is the digital, geospatial version of the flood hazard information shown on the published paper FIRMs. The FIRM Database depicts flood risk information and supporting data used to develop the risk data. The primary risk classifications used are the 1-percent-annual-chance flood event, the 0.2-percent-annual-chance flood event, and areas of minimal flood risk. The FIRM Database is derived from Flood Insurance Studies (FISs), previously published FIRMs, flood hazard analyses performed in support of the FISs and FIRMs, and new mapping data, where available. The FISs and FIRMs are published by FEMA. The NFHL is available as State or US Territory data sets. Each State or Territory data set consists of all FIRM Databases and corresponding LOMRs available on the publication date of the data set. The specification for the horizontal control of FIRM Databases is consistent with those required for mapping at a scale of 1:12,000. This file is georeferenced to the Earth's surface using the Geographic Coordinate System (GCS) and North American Datum of 1983.",
 "mapName": "Layers",
 "description": "",
 "copyrightText": "Federal Emergency Management Agency",
 "supportsDynamicLayers": true,
 "layers": [
  {
   "id": 0,
   "name": "FEMA Flood Hazard Zones (2022)",
   "parentLayerId": -1,
   "defaultVisibility": true,
   "subLayerIds": null,
   "minScale": 0,
   "maxScale": 0,
   "type": "Feature Layer",
   "geometryType": "esriGeometryPolygon"
  }
 ],
 "tables": [],
 "spatialReference": {
  "wkid": 3754,
  "latestWkid": 3754,
  "vcsWkid": 5703,
  "latestVcsWkid": 5703
 },
 "singleFusedMapCache": true,
 "tileInfo": {
  "rows": 1024,
  "cols": 1024,
  "dpi": 96,
  "format": "PNG32",
  "compressionQuality": 0,
  "origin": {
   "x": 1432644.615,
   "y": 710534.498
  },
  "spatialReference": {
   "wkid": 3754,
   "latestWkid": 3754,
   "vcsWkid": 5703,
   "latestVcsWkid": 5703
  },
  "lods": [
   {
    "level": 0,
    "resolution": 190.9722222222222,
    "scale": 220000
   },
   {
    "level": 1,
    "resolution": 164.93055555555554,
    "scale": 190000
   },
   {
    "level": 2,
    "resolution": 62.84722222222222,
    "scale": 72400
   },
   {
    "level": 3,
    "resolution": 31.59722222222222,
    "scale": 36400
   },
   {
    "level": 4,
    "resolution": 16.666666666666664,
    "scale": 19200
   },
   {
    "level": 5,
    "resolution": 8.333333333333332,
    "scale": 9600
   },
   {
    "level": 6,
    "resolution": 4.166666666666666,
    "scale": 4800
   },
   {
    "level": 7,
    "resolution": 2.083333333333333,
    "scale": 2400
   },
   {
    "level": 8,
    "resolution": 1.0416666666666665,
    "scale": 1200
   },
   {
    "level": 9,
    "resolution": 0.625,
    "scale": 720
   },
   {
    "level": 10,
    "resolution": 0.41666666666666663,
    "scale": 480
   },
   {
    "level": 11,
    "resolution": 0.20833333333333331,
    "scale": 240
   }
  ]
 },
 "initialExtent": {
  "xmin": 1484590.0497547188,
  "ymin": 597257.6991617688,
  "xmax": 1661925.3250340866,
  "ymax": 683000.0108724983,
  "spatialReference": {
   "wkid": 3754,
   "latestWkid": 3754,
   "vcsWkid": 5703,
   "latestVcsWkid": 5703
  }
 },
 "fullExtent": {
  "xmin": 1513546.2803008854,
  "ymin": 566834.6004478931,
  "xmax": 1646006.609211728,
  "ymax": 677809.2439837307,
  "spatialReference": {
   "wkid": 3754,
   "latestWkid": 3754,
   "vcsWkid": 5703,
   "latestVcsWkid": 5703
  }
 },
 "minScale": 220000,
 "maxScale": 480,
 "units": "esriFeet",
 "supportedImageFormatTypes": "PNG32,PNG24,PNG,JPG,DIB,TIFF,EMF,PS,PDF,GIF,SVG,SVGZ,BMP",
 "documentInfo": {
  "Title": "FEMA Flood Hazard Layer (FHL)",
  "Author": "Federal Emergency Management Agency",
  "Comments": "The National Flood Hazard Layer (NFHL) data incorporates all Flood Insurance Rate Map (FIRM) databases published by the Federal Emergency Management Agency (FEMA), and any Letters of Map Revision (LOMRs) that have been issued against those databases since their publication date. It is updated on a monthly basis. The FIRM Database is the digital, geospatial version of the flood hazard information shown on the published paper FIRMs. The FIRM Database depicts flood risk information and supporting data used to develop the risk data. The primary risk classifications used are the 1-percent-annual-chance flood event, the 0.2-percent-annual-chance flood event, and areas of minimal flood risk. The FIRM Database is derived from Flood Insurance Studies (FISs), previously published FIRMs, flood hazard analyses performed in support of the FISs and FIRMs, and new mapping data, where available. The FISs and FIRMs are published by FEMA. The NFHL is available as State or US Territory data sets. Each State or Territory data set consists of all FIRM Databases and corresponding LOMRs available on the publication date of the data set. The specification for the horizontal control of FIRM Databases is consistent with those required for mapping at a scale of 1:12,000. This file is georeferenced to the Earth's surface using the Geographic Coordinate System (GCS) and North American Datum of 1983.",
  "Subject": "The FIRM is the basis for floodplain management, mitigation, and insurance activities for the National Flood Insurance Program (NFIP). ",
  "Category": "",
  "AntialiasingMode": "Best",
  "TextAntialiasingMode": "Force",
  "Keywords": "Flood Zones,Flood Insurance Rate Map"
 },
 "capabilities": "Data,Map,Query,Tilemap",
 "supportedQueryFormats": "JSON, geoJSON",
 "exportTilesAllowed": false,
 "referenceScale": 0,
 "supportsDatumTransformation": true,
 "maxRecordCount": 1000,
 "maxImageHeight": 4096,
 "maxImageWidth": 4096,
 "supportedExtensions": ""
}
